BEGIN:VCALENDAR
VERSION:2.0
PRODID:-//ekrc.de | Erster Kieler Ruder-Club von 1862 e. V. - ECPv6.15.20//NONSGML v1.0//EN
CALSCALE:GREGORIAN
METHOD:PUBLISH
X-WR-CALNAME:ekrc.de | Erster Kieler Ruder-Club von 1862 e. V.
X-ORIGINAL-URL:https://www.ekrc.de
X-WR-CALDESC:Veranstaltungen für ekrc.de | Erster Kieler Ruder-Club von 1862 e. V.
REFRESH-INTERVAL;VALUE=DURATION:PT1H
X-Robots-Tag:noindex
X-PUBLISHED-TTL:PT1H
BEGIN:VTIMEZONE
TZID:Europe/Berlin
BEGIN:DAYLIGHT
TZOFFSETFROM:+0100
TZOFFSETTO:+0200
TZNAME:CEST
DTSTART:20130331T010000
END:DAYLIGHT
BEGIN:STANDARD
TZOFFSETFROM:+0200
TZOFFSETTO:+0100
TZNAME:CET
DTSTART:20131027T010000
END:STANDARD
BEGIN:DAYLIGHT
TZOFFSETFROM:+0100
TZOFFSETTO:+0200
TZNAME:CEST
DTSTART:20140330T010000
END:DAYLIGHT
BEGIN:STANDARD
TZOFFSETFROM:+0200
TZOFFSETTO:+0100
TZNAME:CET
DTSTART:20141026T010000
END:STANDARD
BEGIN:DAYLIGHT
TZOFFSETFROM:+0100
TZOFFSETTO:+0200
TZNAME:CEST
DTSTART:20150329T010000
END:DAYLIGHT
BEGIN:STANDARD
TZOFFSETFROM:+0200
TZOFFSETTO:+0100
TZNAME:CET
DTSTART:20151025T010000
END:STANDARD
END:VTIMEZONE
BEGIN:VEVENT
DTSTART;TZID=Europe/Berlin:20140625T200000
DTEND;TZID=Europe/Berlin:20140625T203000
DTSTAMP:20260420T193417
CREATED:20140621T212442Z
LAST-MODIFIED:20140621T212442Z
UID:6927-1403726400-1403728200@www.ekrc.de
SUMMARY:Stadtachter
DESCRIPTION:17. Stadtachter zur Kieler Woche
URL:https://www.ekrc.de/event/stadtachter/
LOCATION:Erster Kieler Ruder-Club\, Düsternbrooker Weg 16\, Kiel\, 24105
CATEGORIES:Veranstaltungen
END:VEVENT
BEGIN:VEVENT
DTSTART;TZID=Europe/Berlin:20140626T060000
DTEND;TZID=Europe/Berlin:20140626T083000
DTSTAMP:20260420T193417
CREATED:20140624T201006Z
LAST-MODIFIED:20140624T201006Z
UID:7001-1403762400-1403771400@www.ekrc.de
SUMMARY:Schiffe gucken zur Kieler Woche - Early Bird
DESCRIPTION:wir fahren zum Schiffe gucken in die Hörn\, anschl. Frühstüsck auf dem Steg
URL:https://www.ekrc.de/event/schiffe-gucken-zur-kieler-woche-early-bird/
LOCATION:Erster Kieler Ruder-Club\, Düsternbrooker Weg 16\, Kiel\, 24105
ATTACH;FMTTYPE=image/jpeg:https://www.ekrc.de/wp-content/uploads/2014/06/010-early-bird-2003.jpg
END:VEVENT
BEGIN:VEVENT
DTSTART;TZID=Europe/Berlin:20140628T090000
DTEND;TZID=Europe/Berlin:20140628T150000
DTSTAMP:20260420T193417
CREATED:20140624T201703Z
LAST-MODIFIED:20140624T201703Z
UID:7002-1403946000-1403967600@www.ekrc.de
SUMMARY:Ausfahrt zur Windjammerparade
DESCRIPTION:wir treffen uns am Club und fahren den Windjammern entgegen
URL:https://www.ekrc.de/event/ausfahrt-zur-windjammerparade/
LOCATION:Erster Kieler Ruder-Club\, Düsternbrooker Weg 16\, Kiel\, 24105
ATTACH;FMTTYPE=image/jpeg:https://www.ekrc.de/wp-content/uploads/2014/06/150-windjammer-221.jpg
END:VEVENT
BEGIN:VEVENT
DTSTART;TZID=Europe/Berlin:20140629T210000
DTEND;TZID=Europe/Berlin:20140629T233000
DTSTAMP:20260420T193417
CREATED:20140624T202103Z
LAST-MODIFIED:20140624T202103Z
UID:7004-1404075600-1404084600@www.ekrc.de
SUMMARY:Abschlussfeuerwerk zur Kieler Woche
DESCRIPTION:Wir treffen uns auf dem Steg des EKRC um gemeinsam das Feuerwerk zu bewundern. Treffen ab 20:00\, Feuerwerk um 23:00
URL:https://www.ekrc.de/event/abschlussfeuerwerk-zur-kieler-woche/
LOCATION:Erster Kieler Ruder-Club\, Düsternbrooker Weg 16\, Kiel\, 24105
END:VEVENT
END:VCALENDAR