BEGIN:VCALENDAR
VERSION:2.0
PRODID:-//ekrc.de | Erster Kieler Ruder-Club von 1862 e. V. - ECPv6.15.20//NONSGML v1.0//EN
CALSCALE:GREGORIAN
METHOD:PUBLISH
X-ORIGINAL-URL:https://www.ekrc.de
X-WR-CALDESC:Veranstaltungen für ekrc.de | Erster Kieler Ruder-Club von 1862 e. V.
REFRESH-INTERVAL;VALUE=DURATION:PT1H
X-Robots-Tag:noindex
X-PUBLISHED-TTL:PT1H
BEGIN:VTIMEZONE
TZID:Europe/Berlin
BEGIN:DAYLIGHT
TZOFFSETFROM:+0100
TZOFFSETTO:+0200
TZNAME:CEST
DTSTART:20130331T010000
END:DAYLIGHT
BEGIN:STANDARD
TZOFFSETFROM:+0200
TZOFFSETTO:+0100
TZNAME:CET
DTSTART:20131027T010000
END:STANDARD
BEGIN:DAYLIGHT
TZOFFSETFROM:+0100
TZOFFSETTO:+0200
TZNAME:CEST
DTSTART:20140330T010000
END:DAYLIGHT
BEGIN:STANDARD
TZOFFSETFROM:+0200
TZOFFSETTO:+0100
TZNAME:CET
DTSTART:20141026T010000
END:STANDARD
BEGIN:DAYLIGHT
TZOFFSETFROM:+0100
TZOFFSETTO:+0200
TZNAME:CEST
DTSTART:20150329T010000
END:DAYLIGHT
BEGIN:STANDARD
TZOFFSETFROM:+0200
TZOFFSETTO:+0100
TZNAME:CET
DTSTART:20151025T010000
END:STANDARD
END:VTIMEZONE
BEGIN:VEVENT
DTSTART;VALUE=DATE:20140531
DTEND;VALUE=DATE:20140601
DTSTAMP:20260420T211450
CREATED:20140530T095232Z
LAST-MODIFIED:20140530T095304Z
UID:6171-1401494400-1401580799@www.ekrc.de
SUMMARY:Rudern gegen Krebs
DESCRIPTION:Rudern für einen guten Zweck 2014\n \nDie Benefizregatta „Rudern gegen Krebs“ ist eine Initiative der Stiftung Leben mit Krebs. Seit 10 Jahren wird diese Regatta bundesweit in Kooperation mit lokalen Rudervereinen und onkologischen Therapieeinrichtungen ausgetragen. \nAuch im Jahr 2014 wird wieder an 13 Standorten für den guten Zweck gerudert. Wir freuen uns schon jetzt auf Ihre Teilnahme und Unterstützung. \nWeitere Informationen
URL:https://www.ekrc.de/event/rudern-gegen-krebs/
LOCATION:Erster Kieler Ruder-Club\, Düsternbrooker Weg 16\, Kiel\, 24105
END:VEVENT
END:VCALENDAR